BEGIN:VCALENDAR
PRODID:-//Microsoft Corporation//Outlook 12.0 MIMEDIR//EN
VERSION:2.0
CALSCALE:GREGORIAN
BEGIN:VEVENT
UID: e3a8477b-e959-4f16-b113-18ac36aa8ecd
SUMMARY:Automaalri koolitus
DTSTAMP:20241111T000000
DTSTART:20241111T000000
DTEND:20241220T000000
LOCATION:Lasnamäe Mehaanikakool
DESCRIPTION: <p><a href="/sites/mehaanikakool.ee/files/2022-10/automaalri_koolitus_120h_1.pdf" target="_blank">Automaalri koolitus</a><span>, 120 tundi, õppekeel: eesti, vene</span></p><p><strong>Link: </strong>https://www.mehaanikakool.ee/et/koolituste-kalender/automaalri-koolitus</p><p><strong>Hind: </strong>1920 €</p>
STATUS:CONFIRMED
SEQUENCE:3
X-ALT-DESC;FMTTYPE=text/html:<p><a href="/sites/mehaanikakool.ee/files/2022-10/automaalri_koolitus_120h_1.pdf" target="_blank">Automaalri koolitus</a><span>, 120 tundi, õppekeel: eesti, vene</span></p><p><strong>Link: </strong>https://www.mehaanikakool.ee/et/koolituste-kalender/automaalri-koolitus</p><p><strong>Hind: </strong>1920 €</p>
X-MICROSOFT-CDO-BUSYSTATUS:OOF
X-MICROSOFT-CDO-IMPORTANCE:1
X-MICROSOFT-DISALLOW-COUNTER:FALSE
X-MS-OLK-ALLOWEXTERNCHECK:TRUE
X-MS-OLK-CONFTYPE:0
X-MICROSOFT-CDO-ALLDAYEVENT:
X-MICROSOFT-MSNCALENDAR-ALLDAYEVENT:
END:VEVENT
END:VCALENDAR